BEGIN:VCALENDAR
VERSION:2.0
PRODID:-//Academy Center of the Arts - ECPv6.15.18//NONSGML v1.0//EN
CALSCALE:GREGORIAN
METHOD:PUBLISH
X-WR-CALNAME:Academy Center of the Arts
X-ORIGINAL-URL:https://academycenter.org
X-WR-CALDESC:Events for Academy Center of the Arts
REFRESH-INTERVAL;VALUE=DURATION:PT1H
X-Robots-Tag:noindex
X-PUBLISHED-TTL:PT1H
BEGIN:VTIMEZONE
TZID:America/New_York
BEGIN:DAYLIGHT
TZOFFSETFROM:-0500
TZOFFSETTO:-0400
TZNAME:EDT
DTSTART:20240310T070000
END:DAYLIGHT
BEGIN:STANDARD
TZOFFSETFROM:-0400
TZOFFSETTO:-0500
TZNAME:EST
DTSTART:20241103T060000
END:STANDARD
BEGIN:DAYLIGHT
TZOFFSETFROM:-0500
TZOFFSETTO:-0400
TZNAME:EDT
DTSTART:20250309T070000
END:DAYLIGHT
BEGIN:STANDARD
TZOFFSETFROM:-0400
TZOFFSETTO:-0500
TZNAME:EST
DTSTART:20251102T060000
END:STANDARD
BEGIN:DAYLIGHT
TZOFFSETFROM:-0500
TZOFFSETTO:-0400
TZNAME:EDT
DTSTART:20260308T070000
END:DAYLIGHT
BEGIN:STANDARD
TZOFFSETFROM:-0400
TZOFFSETTO:-0500
TZNAME:EST
DTSTART:20261101T060000
END:STANDARD
END:VTIMEZONE
BEGIN:VEVENT
DTSTART;TZID=America/New_York:20251031T093000
DTEND;TZID=America/New_York:20251031T120000
DTSTAMP:20260421T094912
CREATED:20250721T180159Z
LAST-MODIFIED:20250721T180159Z
UID:10005542-1761903000-1761912000@academycenter.org
SUMMARY:Friday Independent Studio
DESCRIPTION:
URL:https://academycenter.org/event/friday-independent-studio-10/
LOCATION:May Carter Pottery Studio\, 519 Commerce Street\, Lynchburg\, VA\, United States
CATEGORIES:Education,Pottery
ATTACH;FMTTYPE=image/jpeg:https://academycenter.org/wp-content/uploads/2024/05/Website-Potterythrowing_2.jpg
END:VEVENT
BEGIN:VEVENT
DTSTART;TZID=America/New_York:20251030T193000
DTEND;TZID=America/New_York:20251030T210000
DTSTAMP:20260421T094912
CREATED:20250722T145024Z
LAST-MODIFIED:20251003T170945Z
UID:10005523-1761852600-1761858000@academycenter.org
SUMMARY:Iam Tongi
DESCRIPTION:
URL:https://academycenter.org/event/iam-tongi-fall-tour/
LOCATION:Historic Academy Theatre\, United States
CATEGORIES:Performances,Concerts,Family Friendly,Performing Arts,Academy Presents
ATTACH;FMTTYPE=image/jpeg:https://academycenter.org/wp-content/uploads/2025/07/No-presale1920x1080.jpg
END:VEVENT
BEGIN:VEVENT
DTSTART;TZID=America/New_York:20251030T183000
DTEND;TZID=America/New_York:20251030T210000
DTSTAMP:20260421T094912
CREATED:20250721T175138Z
LAST-MODIFIED:20250721T175138Z
UID:10005539-1761849000-1761858000@academycenter.org
SUMMARY:Thursday Independent Studio
DESCRIPTION:
URL:https://academycenter.org/event/thursday-independent-studio-14/
LOCATION:May Carter Pottery Studio\, 519 Commerce Street\, Lynchburg\, VA\, United States
CATEGORIES:Education,Pottery
ATTACH;FMTTYPE=image/jpeg:https://academycenter.org/wp-content/uploads/2021/09/pottery.jpg
END:VEVENT
BEGIN:VEVENT
DTSTART;TZID=America/New_York:20251030T161500
DTEND;TZID=America/New_York:20251030T174500
DTSTAMP:20260421T094912
CREATED:20250806T153732Z
LAST-MODIFIED:20250806T154237Z
UID:10005581-1761840900-1761846300@academycenter.org
SUMMARY:Kid's Clayworks: Fun and Games
DESCRIPTION:
URL:https://academycenter.org/event/kids-clayworks-fun-and-games/
LOCATION:May Carter Pottery Studio\, 519 Commerce Street\, Lynchburg\, VA\, United States
CATEGORIES:Education,Pottery
ATTACH;FMTTYPE=image/jpeg:https://academycenter.org/wp-content/uploads/2025/07/BJF_2925.jpg
END:VEVENT
BEGIN:VEVENT
DTSTART;TZID=America/New_York:20251030T130000
DTEND;TZID=America/New_York:20251030T153000
DTSTAMP:20260421T094912
CREATED:20250721T174442Z
LAST-MODIFIED:20250721T174442Z
UID:10005537-1761829200-1761838200@academycenter.org
SUMMARY:Beginning Hand Building
DESCRIPTION:
URL:https://academycenter.org/event/beginning-hand-building-14/
LOCATION:May Carter Pottery Studio\, 519 Commerce Street\, Lynchburg\, VA\, United States
CATEGORIES:Education,Pottery
ATTACH;FMTTYPE=image/jpeg:https://academycenter.org/wp-content/uploads/2024/05/Website-Potteryhandbuilding_3.jpg
END:VEVENT
BEGIN:VEVENT
DTSTART;TZID=America/New_York:20251029T183000
DTEND;TZID=America/New_York:20251029T210000
DTSTAMP:20260421T094912
CREATED:20250721T172155Z
LAST-MODIFIED:20250721T172155Z
UID:10005535-1761762600-1761771600@academycenter.org
SUMMARY:Intermediate & Advanced Hand Building
DESCRIPTION:
URL:https://academycenter.org/event/intermediate-advanced-hand-building-14/
LOCATION:May Carter Pottery Studio\, 519 Commerce Street\, Lynchburg\, VA\, United States
CATEGORIES:Education,Pottery
ATTACH;FMTTYPE=image/png:https://academycenter.org/wp-content/uploads/2024/03/EDU-imagesPottery_1.png
END:VEVENT
BEGIN:VEVENT
DTSTART;TZID=America/New_York:20251029T173000
DTEND;TZID=America/New_York:20251029T190000
DTSTAMP:20260421T094912
CREATED:20250821T175201Z
LAST-MODIFIED:20251015T184249Z
UID:10005604-1761759000-1761764400@academycenter.org
SUMMARY:Beginning Printmaking
DESCRIPTION:
URL:https://academycenter.org/event/ink-and-imagination-crafting-expressive-prints-ii/
LOCATION:Peggy Burruss Art Studio\, United States
CATEGORIES:Education,Painting & Drawing,Special Topics
ATTACH;FMTTYPE=image/jpeg:https://academycenter.org/wp-content/uploads/2024/12/416278438_874263268036180_4490794866037207713_n.jpg
END:VEVENT
BEGIN:VEVENT
DTSTART;TZID=America/New_York:20251029T093000
DTEND;TZID=America/New_York:20251029T120000
DTSTAMP:20260421T094912
CREATED:20250721T170632Z
LAST-MODIFIED:20250721T170632Z
UID:10005533-1761730200-1761739200@academycenter.org
SUMMARY:Wednesday Independent Studio
DESCRIPTION:
URL:https://academycenter.org/event/wednesday-independent-studio-13/
LOCATION:May Carter Pottery Studio\, 519 Commerce Street\, Lynchburg\, VA\, United States
CATEGORIES:Education,Pottery
ATTACH;FMTTYPE=image/png:https://academycenter.org/wp-content/uploads/2023/11/Website-PhotosIndependent-studio.png
END:VEVENT
BEGIN:VEVENT
DTSTART;TZID=America/New_York:20251028T183000
DTEND;TZID=America/New_York:20251028T210000
DTSTAMP:20260421T094912
CREATED:20250721T165719Z
LAST-MODIFIED:20250721T165719Z
UID:10005531-1761676200-1761685200@academycenter.org
SUMMARY:Beginning & Intermediate Pottery
DESCRIPTION:
URL:https://academycenter.org/event/beginning-intermediate-pottery-14/
LOCATION:May Carter Pottery Studio\, 519 Commerce Street\, Lynchburg\, VA\, United States
CATEGORIES:Education,Pottery
ATTACH;FMTTYPE=image/jpeg:https://academycenter.org/wp-content/uploads/2024/05/Website-Potterythrowing.jpg
END:VEVENT
BEGIN:VEVENT
DTSTART;TZID=America/New_York:20251028T160000
DTEND;TZID=America/New_York:20251028T180000
DTSTAMP:20260421T094913
CREATED:20250722T205141Z
LAST-MODIFIED:20250722T205141Z
UID:10005556-1761667200-1761674400@academycenter.org
SUMMARY:Young Potters: Beginning Throwing and Hand Building
DESCRIPTION:
URL:https://academycenter.org/event/young-potters-beginning-throwing-and-hand-building-4/
LOCATION:May Carter Pottery Studio\, 519 Commerce Street\, Lynchburg\, VA\, United States
CATEGORIES:Education,Pottery
ATTACH;FMTTYPE=image/jpeg:https://academycenter.org/wp-content/uploads/2025/07/SRH_3677.jpeg
END:VEVENT
BEGIN:VEVENT
DTSTART;TZID=America/New_York:20251028T093000
DTEND;TZID=America/New_York:20251028T120000
DTSTAMP:20260421T094913
CREATED:20250721T164701Z
LAST-MODIFIED:20250721T164701Z
UID:10005529-1761643800-1761652800@academycenter.org
SUMMARY:Clay Lab
DESCRIPTION:
URL:https://academycenter.org/event/clay-lab-14/
LOCATION:May Carter Pottery Studio\, 519 Commerce Street\, Lynchburg\, VA\, United States
CATEGORIES:Education,Pottery
ATTACH;FMTTYPE=image/png:https://academycenter.org/wp-content/uploads/2023/12/PotteryAdult-Pottery.png
END:VEVENT
BEGIN:VEVENT
DTSTART;TZID=America/New_York:20251027T193000
DTEND;TZID=America/New_York:20251027T210000
DTSTAMP:20260421T094913
CREATED:20250714T134651Z
LAST-MODIFIED:20251003T170508Z
UID:10005517-1761593400-1761598800@academycenter.org
SUMMARY:Phil Vassar
DESCRIPTION:
URL:https://academycenter.org/event/phil-vassar/
LOCATION:Historic Academy Theatre\, United States
CATEGORIES:Performances,Concerts,Family Friendly,Performing Arts,Academy Presents
ATTACH;FMTTYPE=image/jpeg:https://academycenter.org/wp-content/uploads/2025/07/Phil-Vassar-1920x1080-1.jpg
END:VEVENT
BEGIN:VEVENT
DTSTART;TZID=America/New_York:20251027T183000
DTEND;TZID=America/New_York:20251027T210000
DTSTAMP:20260421T094913
CREATED:20250721T163608Z
LAST-MODIFIED:20250721T163608Z
UID:10005527-1761589800-1761598800@academycenter.org
SUMMARY:Pottery Basics & Beyond
DESCRIPTION:
URL:https://academycenter.org/event/pottery-basics-beyond-14/
LOCATION:May Carter Pottery Studio\, 519 Commerce Street\, Lynchburg\, VA\, United States
CATEGORIES:Education,Pottery
ATTACH;FMTTYPE=image/jpeg:https://academycenter.org/wp-content/uploads/2024/05/Website-Potterythrowing_1.jpg
END:VEVENT
BEGIN:VEVENT
DTSTART;TZID=America/New_York:20251027T093000
DTEND;TZID=America/New_York:20251027T120000
DTSTAMP:20260421T094913
CREATED:20250721T163046Z
LAST-MODIFIED:20250721T163046Z
UID:10005525-1761557400-1761566400@academycenter.org
SUMMARY:Clay Exploration
DESCRIPTION:
URL:https://academycenter.org/event/clay-exploration-14/
LOCATION:May Carter Pottery Studio\, 519 Commerce Street\, Lynchburg\, VA\, United States
CATEGORIES:Education,Pottery
ATTACH;FMTTYPE=image/jpeg:https://academycenter.org/wp-content/uploads/2020/08/uZuZn3yw-e1691504476431.jpeg
END:VEVENT
BEGIN:VEVENT
DTSTART;TZID=America/New_York:20251025T120000
DTEND;TZID=America/New_York:20251025T210000
DTSTAMP:20260421T094913
CREATED:20250818T134456Z
LAST-MODIFIED:20251015T153857Z
UID:10005593-1761393600-1761426000@academycenter.org
SUMMARY:Lynchburg Film Festival
DESCRIPTION:
URL:https://academycenter.org/event/lynchburg-film-festival-2025/
LOCATION:Historic Academy Theatre\, United States
CATEGORIES:Performances,Performing Arts
ATTACH;FMTTYPE=image/jpeg:https://academycenter.org/wp-content/uploads/2025/08/LYHFF_wide-1.jpg
END:VEVENT
BEGIN:VEVENT
DTSTART;TZID=America/New_York:20251024T193000
DTEND;TZID=America/New_York:20251024T220000
DTSTAMP:20260421T094913
CREATED:20250922T133254Z
LAST-MODIFIED:20250922T133254Z
UID:10005632-1761334200-1761343200@academycenter.org
SUMMARY:Moxie Presents: The Ultimate Tribute to Journey & Styx Featuring Majesty of Rock
DESCRIPTION:
URL:https://academycenter.org/event/moxie-presents-tribute-to-journey/
LOCATION:Historic Academy Theatre\, United States
CATEGORIES:Performances,Concerts,Family Friendly,Performing Arts
ATTACH;FMTTYPE=image/jpeg:https://academycenter.org/wp-content/uploads/2025/09/JourneyStyx_HistoricAcademy_1920x1080.jpg
END:VEVENT
BEGIN:VEVENT
DTSTART;TZID=America/New_York:20251024T180000
DTEND;TZID=America/New_York:20251024T200000
DTSTAMP:20260421T094913
CREATED:20250721T181354Z
LAST-MODIFIED:20251014T201916Z
UID:10005546-1761328800-1761336000@academycenter.org
SUMMARY:Pottery Night Out- SOLD OUT!
DESCRIPTION:
URL:https://academycenter.org/event/pottery-night-out-30/
LOCATION:May Carter Pottery Studio\, 519 Commerce Street\, Lynchburg\, VA\, United States
CATEGORIES:Education,Pottery
ATTACH;FMTTYPE=image/jpeg:https://academycenter.org/wp-content/uploads/2020/08/Jo7LrF-A.jpeg
END:VEVENT
BEGIN:VEVENT
DTSTART;TZID=America/New_York:20251023T200000
DTEND;TZID=America/New_York:20251023T220000
DTSTAMP:20260421T094913
CREATED:20250721T141825Z
LAST-MODIFIED:20251005T215056Z
UID:10005522-1761249600-1761256800@academycenter.org
SUMMARY:An Evening with Claire Holley
DESCRIPTION:
URL:https://academycenter.org/event/an-evening-with-claire-holley/
LOCATION:The Music Hall @ 722 Commerce Street\, 722 Commerce St\, Lynchburg\, VA\, 24504\, United States
CATEGORIES:Performances,Concerts,Academy Presents,The Music Hall
ATTACH;FMTTYPE=image/jpeg:https://academycenter.org/wp-content/uploads/2025/07/Claire1920x01080.jpg
END:VEVENT
BEGIN:VEVENT
DTSTART;TZID=America/New_York:20251019T150000
DTEND;TZID=America/New_York:20251019T170000
DTSTAMP:20260421T094913
CREATED:20250623T132214Z
LAST-MODIFIED:20250623T132355Z
UID:10005507-1760886000-1760893200@academycenter.org
SUMMARY:Roanoke Ballet Theatre Presents Dracula
DESCRIPTION:
URL:https://academycenter.org/event/roanoke-ballet-presents-dracula-2/
LOCATION:Historic Academy Theatre\, United States
CATEGORIES:Performances,Family Friendly,Performing Arts
ATTACH;FMTTYPE=image/png:https://academycenter.org/wp-content/uploads/2025/06/A8372692-99C8-46C7-9C1B-233771B3983D.png
END:VEVENT
BEGIN:VEVENT
DTSTART;TZID=America/New_York:20251018T100000
DTEND;TZID=America/New_York:20251018T113000
DTSTAMP:20260421T094913
CREATED:20250722T192856Z
LAST-MODIFIED:20250722T192921Z
UID:10005552-1760781600-1760787000@academycenter.org
SUMMARY:Saturday Clay Day: Spooky Cauldrons
DESCRIPTION:
URL:https://academycenter.org/event/saturday-clay-day-spooky/
LOCATION:May Carter Pottery Studio\, 519 Commerce Street\, Lynchburg\, VA\, United States
CATEGORIES:Education,Pottery
ATTACH;FMTTYPE=image/jpeg:https://academycenter.org/wp-content/uploads/2025/07/29c763415ee03b521fe75f404c5f4a12.jpg
END:VEVENT
BEGIN:VEVENT
DTSTART;TZID=America/New_York:20251018T090000
DTEND;TZID=America/New_York:20251018T150000
DTSTAMP:20260421T094913
CREATED:20250602T125236Z
LAST-MODIFIED:20250718T175330Z
UID:10005474-1760778000-1760799600@academycenter.org
SUMMARY:Clay Festival 2025
DESCRIPTION:
URL:https://academycenter.org/event/clay-festival-2025/
LOCATION:Historic Theatre Mezzanine Lot
CATEGORIES:Performances,Family Friendly,Academy Presents
ATTACH;FMTTYPE=image/jpeg:https://academycenter.org/wp-content/uploads/2025/05/Branding1920x1080.jpg
END:VEVENT
BEGIN:VEVENT
DTSTART;TZID=America/New_York:20251017T200000
DTEND;TZID=America/New_York:20251017T220000
DTSTAMP:20260421T094913
CREATED:20250815T184244Z
LAST-MODIFIED:20250815T184830Z
UID:10005583-1760731200-1760738400@academycenter.org
SUMMARY:TLVS w/ 7th Grade Girl Fight & Sheetrock
DESCRIPTION:
URL:https://academycenter.org/event/tlvs-w-ggf-and-sheetrock/
LOCATION:The Music Hall @ 722 Commerce Street\, 722 Commerce St\, Lynchburg\, VA\, 24504\, United States
CATEGORIES:Performances,Concerts,Academy Presents,The Music Hall
ATTACH;FMTTYPE=image/jpeg:https://academycenter.org/wp-content/uploads/2025/08/TLVS-Branding1920x01080-1.jpg
END:VEVENT
BEGIN:VEVENT
DTSTART;TZID=America/New_York:20251017T190000
DTEND;TZID=America/New_York:20251017T233000
DTSTAMP:20260421T094913
CREATED:20250901T132657Z
LAST-MODIFIED:20251006T160837Z
UID:10005606-1760727600-1760743800@academycenter.org
SUMMARY:Viva la Cultura: Hispanic Heritage Celebration
DESCRIPTION:
URL:https://academycenter.org/event/viva-la-cultura-hispanic-heritage-celebration25/
LOCATION:Joy & Lynch Christian Warehouse Theatre\, United States
CATEGORIES:Performances,Family Friendly,Performing Arts,Academy Presents
ATTACH;FMTTYPE=image/jpeg:https://academycenter.org/wp-content/uploads/2025/08/Branding1920x1080.jpg
END:VEVENT
BEGIN:VEVENT
DTSTART;TZID=America/New_York:20251015T193000
DTEND;TZID=America/New_York:20251015T210000
DTSTAMP:20260421T094913
CREATED:20250309T045645Z
LAST-MODIFIED:20251007T181449Z
UID:10005325-1760556600-1760562000@academycenter.org
SUMMARY:Vitamin String Quartet: The Music of Taylor Swift\, Bridgerton\, and Beyond
DESCRIPTION:
URL:https://academycenter.org/event/vitamin-string-quartet/
LOCATION:Historic Academy Theatre\, United States
CATEGORIES:Performances,Concerts,Performing Arts,Academy Presents
ATTACH;FMTTYPE=image/jpeg:https://academycenter.org/wp-content/uploads/2025/03/Branding1920x1080.jpg
END:VEVENT
BEGIN:VEVENT
DTSTART;TZID=America/New_York:20251015T093000
DTEND;TZID=America/New_York:20251015T120000
DTSTAMP:20260421T094913
CREATED:20250804T232144Z
LAST-MODIFIED:20250806T144905Z
UID:10005575-1760520600-1760529600@academycenter.org
SUMMARY:Wednesday Watercolor
DESCRIPTION:
URL:https://academycenter.org/event/wednesday-watercolor-2/
LOCATION:Peggy Burruss Art Studio\, United States
CATEGORIES:Education,Painting & Drawing
ATTACH;FMTTYPE=image/png:https://academycenter.org/wp-content/uploads/2023/12/Watercoloryoung-potters.png
END:VEVENT
BEGIN:VEVENT
DTSTART;TZID=America/New_York:20251014T180000
DTEND;TZID=America/New_York:20251014T203000
DTSTAMP:20260421T094913
CREATED:20250804T233828Z
LAST-MODIFIED:20251008T180911Z
UID:10005577-1760464800-1760473800@academycenter.org
SUMMARY:Intermediate Oils
DESCRIPTION:
URL:https://academycenter.org/event/intermediate-oils/
LOCATION:Peggy Burruss Art Studio\, United States
CATEGORIES:Education,Painting & Drawing
ATTACH;FMTTYPE=image/jpeg:https://academycenter.org/wp-content/uploads/2016/12/painting-with-oils-late-winter-e1481213367127.jpg
END:VEVENT
BEGIN:VEVENT
DTSTART;TZID=America/New_York:20251014T093000
DTEND;TZID=America/New_York:20251014T120000
DTSTAMP:20260421T094913
CREATED:20250804T234034Z
LAST-MODIFIED:20250917T153850Z
UID:10005578-1760434200-1760443200@academycenter.org
SUMMARY:Intro to  Acrylics - Landscapes
DESCRIPTION:
URL:https://academycenter.org/event/intro-to-acrylics-2/
LOCATION:Peggy Burruss Art Studio\, United States
CATEGORIES:Education,Painting & Drawing,Special Topics
ATTACH;FMTTYPE=image/jpeg:https://academycenter.org/wp-content/uploads/2021/08/paintingalllevels-6.jpg
END:VEVENT
BEGIN:VEVENT
DTSTART;TZID=America/New_York:20251011T100000
DTEND;TZID=America/New_York:20251011T120000
DTSTAMP:20260421T094913
CREATED:20250821T173303Z
LAST-MODIFIED:20250911T140028Z
UID:10005600-1760176800-1760184000@academycenter.org
SUMMARY:Hill City Comics Club
DESCRIPTION:
URL:https://academycenter.org/event/hill-city-comics-club/
LOCATION:Peggy Burruss Art Studio\, United States
CATEGORIES:Education,Painting & Drawing,Single Day Classes
ATTACH;FMTTYPE=image/png:https://academycenter.org/wp-content/uploads/2025/08/HillCityComicsClub_New-Graphic_1920x1080.png
END:VEVENT
BEGIN:VEVENT
DTSTART;TZID=America/New_York:20251010T200000
DTEND;TZID=America/New_York:20251010T220000
DTSTAMP:20260421T094913
CREATED:20250915T144534Z
LAST-MODIFIED:20250915T180507Z
UID:10005620-1760126400-1760133600@academycenter.org
SUMMARY:LKF and Friends
DESCRIPTION:
URL:https://academycenter.org/event/lkf-and-friends/
LOCATION:The Music Hall @ 722 Commerce Street\, 722 Commerce St\, Lynchburg\, VA\, 24504\, United States
CATEGORIES:Performances,Concerts,Academy Presents,The Music Hall
ATTACH;FMTTYPE=image/jpeg:https://academycenter.org/wp-content/uploads/2025/09/LKF-Branding1920x01080.jpg
END:VEVENT
BEGIN:VEVENT
DTSTART;TZID=America/New_York:20251010T190000
DTEND;TZID=America/New_York:20251010T210000
DTSTAMP:20260421T094913
CREATED:20250624T160139Z
LAST-MODIFIED:20250624T160139Z
UID:10005511-1760122800-1760130000@academycenter.org
SUMMARY:Academy Paint Night : Paint & Sip October
DESCRIPTION:
URL:https://academycenter.org/event/academy-paint-night-paint-sip-october-2/
LOCATION:Peggy Burruss Art Studio\, United States
CATEGORIES:Education,Painting & Drawing,Single Day Classes,Special Topics
ATTACH;FMTTYPE=image/jpeg:https://academycenter.org/wp-content/uploads/2025/06/AcademyPaint-Sip.jpg
END:VEVENT
END:VCALENDAR