BEGIN:VCALENDAR
VERSION:2.0
PRODID:-//Academy Center of the Arts - ECPv6.15.18//NONSGML v1.0//EN
CALSCALE:GREGORIAN
METHOD:PUBLISH
X-WR-CALNAME:Academy Center of the Arts
X-ORIGINAL-URL:https://academycenter.org
X-WR-CALDESC:Events for Academy Center of the Arts
REFRESH-INTERVAL;VALUE=DURATION:PT1H
X-Robots-Tag:noindex
X-PUBLISHED-TTL:PT1H
BEGIN:VTIMEZONE
TZID:America/New_York
BEGIN:DAYLIGHT
TZOFFSETFROM:-0500
TZOFFSETTO:-0400
TZNAME:EDT
DTSTART:20250309T070000
END:DAYLIGHT
BEGIN:STANDARD
TZOFFSETFROM:-0400
TZOFFSETTO:-0500
TZNAME:EST
DTSTART:20251102T060000
END:STANDARD
BEGIN:DAYLIGHT
TZOFFSETFROM:-0500
TZOFFSETTO:-0400
TZNAME:EDT
DTSTART:20260308T070000
END:DAYLIGHT
BEGIN:STANDARD
TZOFFSETFROM:-0400
TZOFFSETTO:-0500
TZNAME:EST
DTSTART:20261101T060000
END:STANDARD
BEGIN:DAYLIGHT
TZOFFSETFROM:-0500
TZOFFSETTO:-0400
TZNAME:EDT
DTSTART:20270314T070000
END:DAYLIGHT
BEGIN:STANDARD
TZOFFSETFROM:-0400
TZOFFSETTO:-0500
TZNAME:EST
DTSTART:20271107T060000
END:STANDARD
END:VTIMEZONE
BEGIN:VEVENT
DTSTART;TZID=America/New_York:20261106T200000
DTEND;TZID=America/New_York:20261106T220000
DTSTAMP:20260421T072820
CREATED:20260319T195601Z
LAST-MODIFIED:20260319T195601Z
UID:10005826-1793995200-1794002400@academycenter.org
SUMMARY:An Evening with Will Overman
DESCRIPTION:
URL:https://academycenter.org/event/an-evening-with-will-overman/
LOCATION:The Music Hall @ 722 Commerce Street\, 722 Commerce St\, Lynchburg\, VA\, 24504\, United States
CATEGORIES:Performances,Concerts,Academy Presents,The Music Hall
ATTACH;FMTTYPE=image/jpeg:https://academycenter.org/wp-content/uploads/2026/03/Will-Overman1920x01080.jpg
END:VEVENT
BEGIN:VEVENT
DTSTART;TZID=America/New_York:20261023T190000
DTEND;TZID=America/New_York:20261023T220000
DTSTAMP:20260421T072820
CREATED:20260410T143251Z
LAST-MODIFIED:20260410T173818Z
UID:10005884-1792782000-1792792800@academycenter.org
SUMMARY:Vacation Manor
DESCRIPTION:
URL:https://academycenter.org/event/vacation-manor-2026/
LOCATION:Joy & Lynch Christian Warehouse Theatre\, United States
CATEGORIES:Performances,Concerts
ATTACH;FMTTYPE=image/jpeg:https://academycenter.org/wp-content/uploads/2026/04/VM1920x1080.jpg
END:VEVENT
BEGIN:VEVENT
DTSTART;TZID=America/New_York:20261018T190000
DTEND;TZID=America/New_York:20261018T190000
DTSTAMP:20260421T072820
CREATED:20260414T122025Z
LAST-MODIFIED:20260420T185214Z
UID:10005885-1792350000-1792350000@academycenter.org
SUMMARY:Outback Presents: Nurse Blake- BUT DID YOU DIE? Comedy Tour
DESCRIPTION:
URL:https://academycenter.org/event/nurse-blake/
LOCATION:Historic Academy Theatre\, United States
CATEGORIES:Performances,Concerts
ATTACH;FMTTYPE=image/jpeg:https://academycenter.org/wp-content/uploads/2026/04/NurseBlake_LYNVA_1920x1080.jpg
END:VEVENT
BEGIN:VEVENT
DTSTART;TZID=America/New_York:20261009T193000
DTEND;TZID=America/New_York:20261009T210000
DTSTAMP:20260421T072820
CREATED:20250609T134649Z
LAST-MODIFIED:20260417T175906Z
UID:10005480-1791574200-1791579600@academycenter.org
SUMMARY:Academy Presents: The Bacon Brothers
DESCRIPTION:
URL:https://academycenter.org/event/the-bacon-brothers/
LOCATION:Historic Academy Theatre\, United States
CATEGORIES:Performances,Concerts,Family Friendly,Performing Arts,Academy Presents
ATTACH;FMTTYPE=image/jpeg:https://academycenter.org/wp-content/uploads/2025/06/bacon-brothers1920x1080.jpg
END:VEVENT
BEGIN:VEVENT
DTSTART;TZID=America/New_York:20260919T173000
DTEND;TZID=America/New_York:20260919T220000
DTSTAMP:20260421T072820
CREATED:20260416T202117Z
LAST-MODIFIED:20260417T201914Z
UID:10005891-1789839000-1789855200@academycenter.org
SUMMARY:2026 GALA: THE NEXT ACT
DESCRIPTION:
URL:https://academycenter.org/event/gala26/
LOCATION:Historic Academy Theatre\, United States
ATTACH;FMTTYPE=image/jpeg:https://academycenter.org/wp-content/uploads/2026/04/2026-Gala-Draft-1.jpg
END:VEVENT
BEGIN:VEVENT
DTSTART;TZID=America/New_York:20260908T193000
DTEND;TZID=America/New_York:20260908T210000
DTSTAMP:20260421T072820
CREATED:20260309T140329Z
LAST-MODIFIED:20260417T175838Z
UID:10005785-1788895800-1788901200@academycenter.org
SUMMARY:Academy Presents: Celtic Thunder
DESCRIPTION:
URL:https://academycenter.org/event/celtic-thunder/
LOCATION:Historic Academy Theatre\, United States
CATEGORIES:Performances,Concerts,Family Friendly,Performing Arts,Academy Presents
ATTACH;FMTTYPE=image/jpeg:https://academycenter.org/wp-content/uploads/2026/03/Celtic1920x1080.jpg
END:VEVENT
BEGIN:VEVENT
DTSTART;TZID=America/New_York:20260829T193000
DTEND;TZID=America/New_York:20260829T193000
DTSTAMP:20260421T072820
CREATED:20260323T130834Z
LAST-MODIFIED:20260420T185535Z
UID:10005828-1788031800-1788031800@academycenter.org
SUMMARY:Lynchburg At War: The Home Front Documentary Film Premiere
DESCRIPTION:
URL:https://academycenter.org/event/lynchburg-at-war/
LOCATION:Historic Academy Theatre\, United States
CATEGORIES:Performances,Concerts,Performing Arts
ATTACH;FMTTYPE=image/png:https://academycenter.org/wp-content/uploads/2026/03/LynchburgAtWar-AcademyPremiere_Landscape.png
END:VEVENT
BEGIN:VEVENT
DTSTART;TZID=America/New_York:20260815T190000
DTEND;TZID=America/New_York:20260815T203000
DTSTAMP:20260421T072820
CREATED:20260406T162629Z
LAST-MODIFIED:20260420T185514Z
UID:10005872-1786820400-1786825800@academycenter.org
SUMMARY:NO POLITICS\, NO RELIGION...JUST COMEDY
DESCRIPTION:
URL:https://academycenter.org/event/just-comedy/
LOCATION:The Music Hall @ 722 Commerce Street\, 722 Commerce St\, Lynchburg\, VA\, 24504\, United States
CATEGORIES:Performances,Concerts,The Music Hall
ATTACH;FMTTYPE=image/jpeg:https://academycenter.org/wp-content/uploads/2026/04/Branding1920x01080.jpg
END:VEVENT
BEGIN:VEVENT
DTSTART;VALUE=DATE:20260808
DTEND;VALUE=DATE:20260809
DTSTAMP:20260421T072820
CREATED:20260420T141532Z
LAST-MODIFIED:20260420T141532Z
UID:10005881-1786147200-1786233599@academycenter.org
SUMMARY:Academy Youth Theatre: Missoula Children's Theatre Aladdin
DESCRIPTION:
URL:https://academycenter.org/event/missoula-childrens-theatre-aladdin/
LOCATION:Joy & Lynch Christian Warehouse Theatre\, United States
CATEGORIES:Performances,Concerts,Family Friendly,Performing Arts,Academy Presents
ATTACH;FMTTYPE=image/jpeg:https://academycenter.org/wp-content/uploads/2026/04/branding1920x1080-2.jpg
END:VEVENT
BEGIN:VEVENT
DTSTART;TZID=America/New_York:20260807T200000
DTEND;TZID=America/New_York:20260807T220000
DTSTAMP:20260421T072820
CREATED:20260216T143022Z
LAST-MODIFIED:20260219T145846Z
UID:10005768-1786132800-1786140000@academycenter.org
SUMMARY:Starfire Live! “Through Space & Time” at The Music Hall 
DESCRIPTION:
URL:https://academycenter.org/event/starfire-live/
LOCATION:The Music Hall @ 722 Commerce Street\, 722 Commerce St\, Lynchburg\, VA\, 24504\, United States
CATEGORIES:Performances,Concerts,Academy Presents,The Music Hall
ATTACH;FMTTYPE=image/jpeg:https://academycenter.org/wp-content/uploads/2026/02/Starfire-1920x01080-1.jpg
END:VEVENT
BEGIN:VEVENT
DTSTART;TZID=America/New_York:20260806T193000
DTEND;TZID=America/New_York:20260806T210000
DTSTAMP:20260421T072820
CREATED:20260407T140851Z
LAST-MODIFIED:20260417T175722Z
UID:10005870-1786044600-1786050000@academycenter.org
SUMMARY:Academy Presents: Old Crow Medicine Show
DESCRIPTION:
URL:https://academycenter.org/event/old-crow-medicine-show/
LOCATION:Historic Academy Theatre\, United States
CATEGORIES:Performances,Concerts,Family Friendly,Performing Arts,Academy Presents
ATTACH;FMTTYPE=image/jpeg:https://academycenter.org/wp-content/uploads/2026/04/branding1920x1080-1.jpg
END:VEVENT
BEGIN:VEVENT
DTSTART;TZID=America/New_York:20260803T100000
DTEND;TZID=America/New_York:20260807T153000
DTSTAMP:20260421T072820
CREATED:20260109T205707Z
LAST-MODIFIED:20260112T165641Z
UID:10005746-1785751200-1786116600@academycenter.org
SUMMARY:MISSOULA CHILDREN'S THEATRE PRESENTS : ALADDIN
DESCRIPTION:
URL:https://academycenter.org/event/missoula-childrens-theatre-presents-aladdin/
LOCATION:Joy & Lynch Christian Warehouse Theatre\, United States
CATEGORIES:Education,Performing Arts,Camps
ATTACH;FMTTYPE=image/jpeg:https://academycenter.org/wp-content/uploads/2026/01/ALA-LOGO-FULL-COLOR.jpg
END:VEVENT
BEGIN:VEVENT
DTSTART;TZID=America/New_York:20260803T093000
DTEND;TZID=America/New_York:20260803T120000
DTSTAMP:20260421T072820
CREATED:20260324T140442Z
LAST-MODIFIED:20260401T133410Z
UID:10005835-1785749400-1785758400@academycenter.org
SUMMARY:Teen Pottery Camp 4
DESCRIPTION:
URL:https://academycenter.org/event/teen-pottery-camp-4-2/
LOCATION:May Carter Pottery Studio\, 519 Commerce Street\, Lynchburg\, VA\, United States
CATEGORIES:Education,Pottery,Camps
ATTACH;FMTTYPE=image/jpeg:https://academycenter.org/wp-content/uploads/2024/05/Website-Potterythrowing.jpg
END:VEVENT
BEGIN:VEVENT
DTSTART;VALUE=DATE:20260731
DTEND;VALUE=DATE:20260802
DTSTAMP:20260421T072820
CREATED:20260420T141411Z
LAST-MODIFIED:20260420T141411Z
UID:10005888-1785456000-1785628799@academycenter.org
SUMMARY:Academy Youth Theatre Presents Shrek Kids
DESCRIPTION:
URL:https://academycenter.org/event/academy-youth-theatre-shrek-kids-2026/
LOCATION:Historic Academy Theatre\, United States
CATEGORIES:Performances,Concerts,Family Friendly,Performing Arts,Academy Presents
ATTACH;FMTTYPE=image/png:https://academycenter.org/wp-content/uploads/2026/04/Summer2026_ShrekKids_1920x1080.png
END:VEVENT
BEGIN:VEVENT
DTSTART;TZID=America/New_York:20260727T093000
DTEND;TZID=America/New_York:20260731T123000
DTSTAMP:20260421T072820
CREATED:20260326T170940Z
LAST-MODIFIED:20260326T173742Z
UID:10005854-1785144600-1785501000@academycenter.org
SUMMARY:Once Upon a Villain Dance & Pottery Camp
DESCRIPTION:
URL:https://academycenter.org/event/onceuponavillian-dance-pottery-camp/
LOCATION:Lippard Room\, 519 Commerce Street\, Lynchburg\, VA\, United States
CATEGORIES:Education,Performing Arts,Pottery,Camps
ATTACH;FMTTYPE=image/jpeg:https://academycenter.org/wp-content/uploads/2020/08/M5ykZoRA.jpeg
END:VEVENT
BEGIN:VEVENT
DTSTART;TZID=America/New_York:20260727T093000
DTEND;TZID=America/New_York:20260731T120000
DTSTAMP:20260421T072820
CREATED:20260325T141552Z
LAST-MODIFIED:20260327T143304Z
UID:10005841-1785144600-1785499200@academycenter.org
SUMMARY:Illustrating with Procreate Camp
DESCRIPTION:
URL:https://academycenter.org/event/illustrating-with-procreate-camp/
LOCATION:Peggy Burruss Art Studio\, United States
CATEGORIES:Education,Camps,Painting & Drawing,Special Topics
ATTACH;FMTTYPE=image/png:https://academycenter.org/wp-content/uploads/2026/03/Illustrating.png
END:VEVENT
BEGIN:VEVENT
DTSTART;TZID=America/New_York:20260727T093000
DTEND;TZID=America/New_York:20260727T153000
DTSTAMP:20260421T072820
CREATED:20251027T153659Z
LAST-MODIFIED:20260407T171548Z
UID:10005661-1785144600-1785166200@academycenter.org
SUMMARY:SOLD OUT Academy Youth Theatre : Shrek Kids
DESCRIPTION:
URL:https://academycenter.org/event/academy-youth-theatre-shrek-kids/
LOCATION:Historic Academy Theatre\, United States
CATEGORIES:Education,Performing Arts,Camps
ATTACH;FMTTYPE=image/jpeg:https://academycenter.org/wp-content/uploads/2025/10/Shrek-KIDS_FULL-ART_SQ_RGB.jpg
END:VEVENT
BEGIN:VEVENT
DTSTART;TZID=America/New_York:20260727T093000
DTEND;TZID=America/New_York:20260727T120000
DTSTAMP:20260421T072820
CREATED:20260326T172036Z
LAST-MODIFIED:20260326T172036Z
UID:10005858-1785144600-1785153600@academycenter.org
SUMMARY:Fairytale Villians Art Camp
DESCRIPTION:
URL:https://academycenter.org/event/fairytale-villians-art-camp/
LOCATION:Peggy Burruss Art Studio\, United States
CATEGORIES:Education,Camps,Painting & Drawing,Special Topics
ATTACH;FMTTYPE=image/jpeg:https://academycenter.org/wp-content/uploads/2026/03/BJF_4394.jpg
END:VEVENT
BEGIN:VEVENT
DTSTART;TZID=America/New_York:20260725T190000
DTEND;TZID=America/New_York:20260725T190000
DTSTAMP:20260421T072820
CREATED:20260414T122351Z
LAST-MODIFIED:20260420T195403Z
UID:10005887-1785006000-1785006000@academycenter.org
SUMMARY:Zach Rushing
DESCRIPTION:
URL:https://academycenter.org/event/zach-rushing/
LOCATION:Historic Academy Theatre\, United States
CATEGORIES:Performances,Concerts
ATTACH;FMTTYPE=image/jpeg:https://academycenter.org/wp-content/uploads/2026/04/wide.jpg
END:VEVENT
BEGIN:VEVENT
DTSTART;TZID=America/New_York:20260724T190000
DTEND;TZID=America/New_York:20260724T190000
DTSTAMP:20260421T072820
CREATED:20260413T140744Z
LAST-MODIFIED:20260413T140744Z
UID:10005880-1784919600-1784919600@academycenter.org
SUMMARY:Academy Youth Theatre: Annie Jr.
DESCRIPTION:
URL:https://academycenter.org/event/ayt-annie-jr/
LOCATION:Joy & Lynch Christian Warehouse Theatre\, United States
CATEGORIES:Performances,Concerts,Family Friendly,Performing Arts,Academy Presents
ATTACH;FMTTYPE=image/png:https://academycenter.org/wp-content/uploads/2026/04/Summer2026_AnnieJr_1920x1080.png
END:VEVENT
BEGIN:VEVENT
DTSTART;TZID=America/New_York:20260723T093000
DTEND;TZID=America/New_York:20260724T173000
DTSTAMP:20260421T072820
CREATED:20251212T150852Z
LAST-MODIFIED:20260413T164150Z
UID:10005733-1784799000-1784914200@academycenter.org
SUMMARY:Academy Youth Theatre : 36 Hour Camp : Annie Jr
DESCRIPTION:
URL:https://academycenter.org/event/academy-youth-theatre-36-hour-camp/
LOCATION:Joy & Lynch Christian Warehouse Theatre\, United States
CATEGORIES:Education,Performing Arts,Camps
ATTACH;FMTTYPE=image/png:https://academycenter.org/wp-content/uploads/2025/12/36-Hour-Theatre-Camp-1920x1080-1.png
END:VEVENT
BEGIN:VEVENT
DTSTART;TZID=America/New_York:20260720T130000
DTEND;TZID=America/New_York:20260724T153000
DTSTAMP:20260421T072820
CREATED:20260326T192209Z
LAST-MODIFIED:20260326T200133Z
UID:10005866-1784552400-1784907000@academycenter.org
SUMMARY:Behind the Curtain : Costume & Prop Camp
DESCRIPTION:
URL:https://academycenter.org/event/behind-the-curtain-costume-prop-camp/
LOCATION:Lippard Room\, 519 Commerce Street\, Lynchburg\, VA\, United States
CATEGORIES:Education,Camps,Painting & Drawing,Special Topics
ATTACH;FMTTYPE=image/png:https://academycenter.org/wp-content/uploads/2026/03/Costume-and-Prop-Camp.png
END:VEVENT
BEGIN:VEVENT
DTSTART;TZID=America/New_York:20260720T093000
DTEND;TZID=America/New_York:20260724T113000
DTSTAMP:20260421T072820
CREATED:20260326T194120Z
LAST-MODIFIED:20260326T194120Z
UID:10005867-1784539800-1784892600@academycenter.org
SUMMARY:Preschool Movement/Music Camp : Dance A Story
DESCRIPTION:
URL:https://academycenter.org/event/preschool-movement-music-camp-dance-a-story/
LOCATION:Lippard Room\, 519 Commerce Street\, Lynchburg\, VA\, United States
CATEGORIES:Education,Performing Arts,Camps
ATTACH;FMTTYPE=image/jpeg:https://academycenter.org/wp-content/uploads/2024/08/Kids-Sunflower-2.jpg
END:VEVENT
BEGIN:VEVENT
DTSTART;TZID=America/New_York:20260720T090000
DTEND;TZID=America/New_York:20260720T120000
DTSTAMP:20260421T072820
CREATED:20260324T140105Z
LAST-MODIFIED:20260324T140105Z
UID:10005834-1784538000-1784548800@academycenter.org
SUMMARY:Teen Pottery Camp 3
DESCRIPTION:
URL:https://academycenter.org/event/teen-pottery-camp-3-2/
LOCATION:May Carter Pottery Studio\, 519 Commerce Street\, Lynchburg\, VA\, United States
CATEGORIES:Education,Pottery,Camps
ATTACH;FMTTYPE=image/jpeg:https://academycenter.org/wp-content/uploads/2024/05/Website-Potterythrowing.jpg
END:VEVENT
BEGIN:VEVENT
DTSTART;TZID=America/New_York:20260719T193000
DTEND;TZID=America/New_York:20260719T193000
DTSTAMP:20260421T072820
CREATED:20260416T183237Z
LAST-MODIFIED:20260420T142855Z
UID:10005886-1784489400-1784489400@academycenter.org
SUMMARY:Academy Presents: The War and Treaty
DESCRIPTION:
URL:https://academycenter.org/event/the-war-and-treaty/
LOCATION:Historic Academy Theatre\, United States
CATEGORIES:Performances,Concerts,Family Friendly,Performing Arts,Academy Presents
ATTACH;FMTTYPE=image/jpeg:https://academycenter.org/wp-content/uploads/2026/04/The-War-and-Treaty1920x1080-1.jpg
END:VEVENT
BEGIN:VEVENT
DTSTART;TZID=America/New_York:20260717T200000
DTEND;TZID=America/New_York:20260717T220000
DTSTAMP:20260421T072820
CREATED:20260306T150002Z
LAST-MODIFIED:20260306T150002Z
UID:10005789-1784318400-1784325600@academycenter.org
SUMMARY:Chris App: Citrus Summer EP Release Tour
DESCRIPTION:
URL:https://academycenter.org/event/citrus-summer-ep-release-tour/
LOCATION:The Music Hall @ 722 Commerce Street\, 722 Commerce St\, Lynchburg\, VA\, 24504\, United States
CATEGORIES:Performances,Concerts,Academy Presents,The Music Hall
ATTACH;FMTTYPE=image/jpeg:https://academycenter.org/wp-content/uploads/2026/03/Chris-App1920x01080.jpg
END:VEVENT
BEGIN:VEVENT
DTSTART;VALUE=DATE:20260717
DTEND;VALUE=DATE:20260718
DTSTAMP:20260421T072820
CREATED:20260413T140438Z
LAST-MODIFIED:20260413T140438Z
UID:10005878-1784246400-1784332799@academycenter.org
SUMMARY:Academy Youth Theatre: Young Actor's Not so Mysterious Disappearance of Cinderella
DESCRIPTION:
URL:https://academycenter.org/event/ayt-not-so-mysterious-cinderella/
LOCATION:Joy & Lynch Christian Warehouse Theatre\, United States
CATEGORIES:Performances,Concerts,Family Friendly,Performing Arts,Academy Presents
ATTACH;FMTTYPE=image/jpeg:https://academycenter.org/wp-content/uploads/2026/04/2.jpg
END:VEVENT
BEGIN:VEVENT
DTSTART;VALUE=DATE:20260717
DTEND;VALUE=DATE:20260719
DTSTAMP:20260421T072820
CREATED:20260406T162536Z
LAST-MODIFIED:20260410T180138Z
UID:10005873-1784246400-1784419199@academycenter.org
SUMMARY:Academy Youth Theatre Presents Wizard of Oz Youth Edition
DESCRIPTION:
URL:https://academycenter.org/event/wizard-of-oz-youth-edition/
LOCATION:Historic Academy Theatre\, United States
CATEGORIES:Performances,Concerts,Theatre,Family Friendly,Performing Arts,Academy Presents
ATTACH;FMTTYPE=image/png:https://academycenter.org/wp-content/uploads/2026/04/ACOA-Wizard-of-Oz-Event-Page_SK-Revised.png
END:VEVENT
BEGIN:VEVENT
DTSTART;TZID=America/New_York:20260713T130000
DTEND;TZID=America/New_York:20260713T153000
DTSTAMP:20260421T072820
CREATED:20260326T171724Z
LAST-MODIFIED:20260403T184622Z
UID:10005857-1783947600-1783956600@academycenter.org
SUMMARY:Artists for Animals : Pet Portrait Camp
DESCRIPTION:
URL:https://academycenter.org/event/artists-for-animals-pet-portrait-camp/
LOCATION:Peggy Burruss Art Studio\, United States
CATEGORIES:Education,Camps,Painting & Drawing,Special Topics
ATTACH;FMTTYPE=image/jpeg:https://academycenter.org/wp-content/uploads/2026/03/BJF_4348.jpg
END:VEVENT
BEGIN:VEVENT
DTSTART;TZID=America/New_York:20260713T130000
DTEND;TZID=America/New_York:20260713T153000
DTSTAMP:20260421T072820
CREATED:20260326T164854Z
LAST-MODIFIED:20260326T195136Z
UID:10005850-1783947600-1783956600@academycenter.org
SUMMARY:Academy Youth Theatre : Young Actors Camp Not-So Mysterious Disappearance of Cinderella PM CAMP
DESCRIPTION:
URL:https://academycenter.org/event/academy-youth-theatre-young-actors-camp-not-so-mysterious-disappearance-of-cinderella-pm-camp/
LOCATION:Joy & Lynch Christian Warehouse Theatre\, United States
CATEGORIES:Education,Performing Arts,Camps,Special Topics
ATTACH;FMTTYPE=image/jpeg:https://academycenter.org/wp-content/uploads/2026/03/SRH_1959.jpg
END:VEVENT
END:VCALENDAR